BEGIN:VCALENDAR
VERSION:2.0
PRODID:-//Innisfail Community Band - ECPv4.6.9//NONSGML v1.0//EN
CALSCALE:GREGORIAN
METHOD:PUBLISH
X-WR-CALNAME:Innisfail Community Band
X-ORIGINAL-URL:http://innisfailbands.com.au
X-WR-CALDESC:Events for Innisfail Community Band
BEGIN:VEVENT
DTSTART;TZID=UTC+10:20180224T090000
DTEND;TZID=UTC+10:20180224T120000
DTSTAMP:20180224T210858
CREATED:20180111T115928Z
LAST-MODIFIED:20180111T115928Z
UID:292-1519462800-1519473600@innisfailbands.com.au
SUMMARY:Sausage Sizzle Fundraiser
DESCRIPTION:
URL:http://innisfailbands.com.au/event/sausage-sizzle-fundraiser-2/
LOCATION:57 Ernest Street\, Innisfail\, Queensland\, 4860\, Australia
CATEGORIES:Fundraiser
ATTACH;FMTTYPE=image/jpeg:http://innisfailbands.com.au/wp-content/uploads/2016/11/13245506_1243038649063986_6388069687134150648_n.jpg
END:VEVENT
END:VCALENDAR